BEGIN:VCALENDAR
VERSION:2.0
PRODID:-//Adham Somantrie/AyoLari.in//NONSGML v1.0//EN
CALSCALE:GREGORIAN
BEGIN:VEVENT
UID:4e4b5fbbbb602b6d35bea8460aa8f8e5
DTSTAMP:20260420T235400Z
LOCATION:Jakarta
DESCRIPTION:ayolari.in
URL;VALUE=URI:https://ayolari.in/lomba/under-armour-senayan-city-charged-run
SUMMARY:Under Armour Senayan City Charged Run
DTSTART;VALUE=DATE;TZID=ASIA-JAKARTA:20161120
DTEND;VALUE=DATE;TZID=ASIA-JAKARTA:20161121
TRANSP:TRANSPARENT
END:VEVENT
END:VCALENDAR