BEGIN:VCALENDAR
VERSION:2.0
PRODID:-//Adham Somantrie/AyoLari.in//NONSGML v1.0//EN
CALSCALE:GREGORIAN
BEGIN:VEVENT
UID:58ae749f25eded36f486bc85feb3f0ab
DTSTAMP:20260421T020710Z
LOCATION:Jakarta
DESCRIPTION:ayolari.in
URL;VALUE=URI:https://ayolari.in/lomba/71k-digital-running-for-innovations
SUMMARY:7.1K Digital Running For Innovations
DTSTART;VALUE=DATE;TZID=ASIA-JAKARTA:20161030
DTEND;VALUE=DATE;TZID=ASIA-JAKARTA:20161031
TRANSP:TRANSPARENT
END:VEVENT
END:VCALENDAR