BEGIN:VCALENDAR
VERSION:2.0
PRODID:-//Adham Somantrie/AyoLari.in//NONSGML v1.0//EN
CALSCALE:GREGORIAN
BEGIN:VEVENT
UID:33e8075e9970de0cfea955afd4644bb2
DTSTAMP:20260421T054251Z
LOCATION:Jakarta
DESCRIPTION:ayolari.in
URL;VALUE=URI:https://ayolari.in/lomba/treffent-run-2016
SUMMARY:Treffent Run 2016
DTSTART;VALUE=DATE;TZID=ASIA-JAKARTA:20160925
DTEND;VALUE=DATE;TZID=ASIA-JAKARTA:20160926
TRANSP:TRANSPARENT
END:VEVENT
END:VCALENDAR