BEGIN:VCALENDAR
VERSION:2.0
PRODID:-//Adham Somantrie/AyoLari.in//NONSGML v1.0//EN
CALSCALE:GREGORIAN
BEGIN:VEVENT
UID:c399862d3b9d6b76c8436e924a68c45b
DTSTAMP:20260421T230453Z
LOCATION:Pekanbaru
DESCRIPTION:ayolari.in
URL;VALUE=URI:https://ayolari.in/lomba/paskhas-10k-funrun-pekanbaru
SUMMARY:Paskhas 10K FunRun Pekanbaru
DTSTART;VALUE=DATE;TZID=ASIA-JAKARTA:20161009
DTEND;VALUE=DATE;TZID=ASIA-JAKARTA:20161010
TRANSP:TRANSPARENT
END:VEVENT
END:VCALENDAR