BEGIN:VCALENDAR
VERSION:2.0
PRODID:-//Adham Somantrie/AyoLari.in//NONSGML v1.0//EN
CALSCALE:GREGORIAN
BEGIN:VEVENT
UID:df877f3865752637daa540ea9cbc474f
DTSTAMP:20260420T234929Z
LOCATION:Jakarta
DESCRIPTION:ayolari.in
URL;VALUE=URI:https://ayolari.in/lomba/synergetic-run-2016
SUMMARY:Synergetic Run 2016
DTSTART;VALUE=DATE;TZID=ASIA-JAKARTA:20160918
DTEND;VALUE=DATE;TZID=ASIA-JAKARTA:20160919
TRANSP:TRANSPARENT
END:VEVENT
END:VCALENDAR