BEGIN:VCALENDAR
VERSION:2.0
PRODID:-//Adham Somantrie/AyoLari.in//NONSGML v1.0//EN
CALSCALE:GREGORIAN
BEGIN:VEVENT
UID:13f320e7b5ead1024ac95c3b208610db
DTSTAMP:20260421T005451Z
LOCATION:Jakarta
DESCRIPTION:ayolari.in
URL;VALUE=URI:https://ayolari.in/lomba/taiwan-excellence-happy-run-2016
SUMMARY:Taiwan Excellence Happy Run 2016
DTSTART;VALUE=DATE;TZID=ASIA-JAKARTA:20160904
DTEND;VALUE=DATE;TZID=ASIA-JAKARTA:20160905
TRANSP:TRANSPARENT
END:VEVENT
END:VCALENDAR