BEGIN:VCALENDAR
VERSION:2.0
PRODID:-//Adham Somantrie/AyoLari.in//NONSGML v1.0//EN
CALSCALE:GREGORIAN
BEGIN:VEVENT
UID:69421f032498c97020180038fddb8e24
DTSTAMP:20260420T234811Z
LOCATION:Jakarta
DESCRIPTION:ayolari.in
URL;VALUE=URI:https://ayolari.in/lomba/laborun-2016
SUMMARY:Laborun 2016
DTSTART;VALUE=DATE;TZID=ASIA-JAKARTA:20161112
DTEND;VALUE=DATE;TZID=ASIA-JAKARTA:20161113
TRANSP:TRANSPARENT
END:VEVENT
END:VCALENDAR