BEGIN:VCALENDAR
VERSION:2.0
PRODID:-//Adham Somantrie/AyoLari.in//NONSGML v1.0//EN
CALSCALE:GREGORIAN
BEGIN:VEVENT
UID:cf67355a3333e6e143439161adc2d82e
DTSTAMP:20260421T010054Z
LOCATION:Madiun
DESCRIPTION:ayolari.in
URL;VALUE=URI:https://ayolari.in/lomba/inka-10k
SUMMARY:INKA 10K
DTSTART;VALUE=DATE;TZID=ASIA-JAKARTA:20160821
DTEND;VALUE=DATE;TZID=ASIA-JAKARTA:20160822
TRANSP:TRANSPARENT
END:VEVENT
END:VCALENDAR