BEGIN:VCALENDAR
VERSION:2.0
PRODID:-//Adham Somantrie/AyoLari.in//NONSGML v1.0//EN
CALSCALE:GREGORIAN
BEGIN:VEVENT
UID:63538fe6ef330c13a05a3ed7e599d5f7
DTSTAMP:20260421T005751Z
LOCATION:Jakarta
DESCRIPTION:ayolari.in
URL;VALUE=URI:https://ayolari.in/lomba/air-force-run-2016
SUMMARY:Air Force Run 2016
DTSTART;VALUE=DATE;TZID=ASIA-JAKARTA:20160904
DTEND;VALUE=DATE;TZID=ASIA-JAKARTA:20160905
TRANSP:TRANSPARENT
END:VEVENT
END:VCALENDAR