BEGIN:VCALENDAR
VERSION:2.0
PRODID:-//Adham Somantrie/AyoLari.in//NONSGML v1.0//EN
CALSCALE:GREGORIAN
BEGIN:VEVENT
UID:ebd9629fc3ae5e9f6611e2ee05a31cef
DTSTAMP:20260420T234642Z
LOCATION:Depok
DESCRIPTION:ayolari.in
URL;VALUE=URI:https://ayolari.in/lomba/inspilari-ui-2016
SUMMARY:Inspilari UI 2016
DTSTART;VALUE=DATE;TZID=ASIA-JAKARTA:20161204
DTEND;VALUE=DATE;TZID=ASIA-JAKARTA:20161205
TRANSP:TRANSPARENT
END:VEVENT
END:VCALENDAR