BEGIN:VCALENDAR
VERSION:2.0
PRODID:-//Adham Somantrie/AyoLari.in//NONSGML v1.0//EN
CALSCALE:GREGORIAN
BEGIN:VEVENT
UID:3dc4876f3f08201c7c76cb71fa1da439
DTSTAMP:20260421T020522Z
LOCATION:Jakarta
DESCRIPTION:ayolari.in
URL;VALUE=URI:https://ayolari.in/lomba/run-for-unity
SUMMARY:Run for Unity
DTSTART;VALUE=DATE;TZID=ASIA-JAKARTA:20160813
DTEND;VALUE=DATE;TZID=ASIA-JAKARTA:20160814
TRANSP:TRANSPARENT
END:VEVENT
END:VCALENDAR