BEGIN:VCALENDAR
VERSION:2.0
PRODID:-//Adham Somantrie/AyoLari.in//NONSGML v1.0//EN
CALSCALE:GREGORIAN
BEGIN:VEVENT
UID:2d6cc4b2d139a53512fb8cbb3086ae2e
DTSTAMP:20260421T032836Z
LOCATION:Jakarta
DESCRIPTION:ayolari.in
URL;VALUE=URI:https://ayolari.in/lomba/lebarun-2016
SUMMARY:Lebarun 2016
DTSTART;VALUE=DATE;TZID=ASIA-JAKARTA:20160731
DTEND;VALUE=DATE;TZID=ASIA-JAKARTA:20160801
TRANSP:TRANSPARENT
END:VEVENT
END:VCALENDAR