BEGIN:VCALENDAR
VERSION:2.0
PRODID:-//Adham Somantrie/AyoLari.in//NONSGML v1.0//EN
CALSCALE:GREGORIAN
BEGIN:VEVENT
UID:7d04bbbe5494ae9d2f5a76aa1c00fa2f
DTSTAMP:20260421T005705Z
LOCATION:Jakarta
DESCRIPTION:ayolari.in
URL;VALUE=URI:https://ayolari.in/lomba/run-to-mosque
SUMMARY:Run To Mosque
DTSTART;VALUE=DATE;TZID=ASIA-JAKARTA:20160529
DTEND;VALUE=DATE;TZID=ASIA-JAKARTA:20160530
TRANSP:TRANSPARENT
END:VEVENT
END:VCALENDAR