BEGIN:VCALENDAR
VERSION:2.0
PRODID:-//Adham Somantrie/AyoLari.in//NONSGML v1.0//EN
CALSCALE:GREGORIAN
BEGIN:VEVENT
UID:eba0dc302bcd9a273f8bbb72be3a687b
DTSTAMP:20260420T234519Z
LOCATION:Jakarta
DESCRIPTION:ayolari.in
URL;VALUE=URI:https://ayolari.in/lomba/jakarta-ultra-100-2016
SUMMARY:Jakarta Ultra 100 2016
DTSTART;VALUE=DATE;TZID=ASIA-JAKARTA:20161112
DTEND;VALUE=DATE;TZID=ASIA-JAKARTA:20161113
TRANSP:TRANSPARENT
END:VEVENT
END:VCALENDAR