BEGIN:VCALENDAR
VERSION:2.0
PRODID:-//Adham Somantrie/AyoLari.in//NONSGML v1.0//EN
CALSCALE:GREGORIAN
BEGIN:VEVENT
UID:cfee398643cbc3dc5eefc89334cacdc1
DTSTAMP:20260421T005228Z
LOCATION:Jakarta
DESCRIPTION:ayolari.in
URL;VALUE=URI:https://ayolari.in/lomba/triathlon-buddies-kids-triathlon-2016
SUMMARY:Triathlon Buddies Kids Triathlon 2016
DTSTART;VALUE=DATE;TZID=ASIA-JAKARTA:20160605
DTEND;VALUE=DATE;TZID=ASIA-JAKARTA:20160606
TRANSP:TRANSPARENT
END:VEVENT
END:VCALENDAR