BEGIN:VCALENDAR
VERSION:2.0
PRODID:-//Adham Somantrie/AyoLari.in//NONSGML v1.0//EN
CALSCALE:GREGORIAN
BEGIN:VEVENT
UID:25ddc0f8c9d3e22e03d3076f98d83cb2
DTSTAMP:20260420T234521Z
LOCATION:Jakarta
DESCRIPTION:ayolari.in
URL;VALUE=URI:https://ayolari.in/lomba/2xu-compression-run-jakarta-2016
SUMMARY:2XU Compression Run Jakarta 2016
DTSTART;VALUE=DATE;TZID=ASIA-JAKARTA:20161127
DTEND;VALUE=DATE;TZID=ASIA-JAKARTA:20161128
TRANSP:TRANSPARENT
END:VEVENT
END:VCALENDAR