BEGIN:VCALENDAR
VERSION:2.0
PRODID:-//Adham Somantrie/AyoLari.in//NONSGML v1.0//EN
CALSCALE:GREGORIAN
BEGIN:VEVENT
UID:98b297950041a42470269d56260243a1
DTSTAMP:20260421T005440Z
LOCATION:Jakarta
DESCRIPTION:ayolari.in
URL;VALUE=URI:https://ayolari.in/lomba/compressport-heritage-run-2016
SUMMARY:Compressport Heritage Run 2016
DTSTART;VALUE=DATE;TZID=ASIA-JAKARTA:20160918
DTEND;VALUE=DATE;TZID=ASIA-JAKARTA:20160919
TRANSP:TRANSPARENT
END:VEVENT
END:VCALENDAR