BEGIN:VCALENDAR
VERSION:2.0
PRODID:-//Adham Somantrie/AyoLari.in//NONSGML v1.0//EN
CALSCALE:GREGORIAN
BEGIN:VEVENT
UID:7fe1f8abaad094e0b5cb1b01d712f708
DTSTAMP:20260421T020733Z
LOCATION:Jakarta
DESCRIPTION:ayolari.in
URL;VALUE=URI:https://ayolari.in/lomba/mens-health-urbanathlon-sundown-2016
SUMMARY:Men&apos\;s Health Urbanathlon Sundown 2016
DTSTART;VALUE=DATE;TZID=ASIA-JAKARTA:20160528
DTEND;VALUE=DATE;TZID=ASIA-JAKARTA:20160529
TRANSP:TRANSPARENT
END:VEVENT
END:VCALENDAR