BEGIN:VCALENDAR
VERSION:2.0
PRODID:-//Adham Somantrie/AyoLari.in//NONSGML v1.0//EN
CALSCALE:GREGORIAN
BEGIN:VEVENT
UID:d07e70efcfab08731a97e7b91be644de
DTSTAMP:20260421T005531Z
LOCATION:Jakarta
DESCRIPTION:ayolari.in
URL;VALUE=URI:https://ayolari.in/lomba/oppo-selfie-run
SUMMARY:Oppo Selfie Run
DTSTART;VALUE=DATE;TZID=ASIA-JAKARTA:20160424
DTEND;VALUE=DATE;TZID=ASIA-JAKARTA:20160425
TRANSP:TRANSPARENT
END:VEVENT
END:VCALENDAR