BEGIN:VCALENDAR
VERSION:2.0
PRODID:-//Adham Somantrie/AyoLari.in//NONSGML v1.0//EN
CALSCALE:GREGORIAN
BEGIN:VEVENT
UID:13f3cf8c531952d72e5847c4183e6910
DTSTAMP:20260420T050514Z
LOCATION:Magelang\, Jawa Tengah
DESCRIPTION:ayolari.in
URL;VALUE=URI:https://ayolari.in/lomba/borobudur-marathon-2016
SUMMARY:Borobudur Marathon 2016
DTSTART;VALUE=DATE;TZID=ASIA-JAKARTA:20161120
DTEND;VALUE=DATE;TZID=ASIA-JAKARTA:20161121
TRANSP:TRANSPARENT
END:VEVENT
END:VCALENDAR