BEGIN:VCALENDAR
VERSION:2.0
PRODID:-//Adham Somantrie/AyoLari.in//NONSGML v1.0//EN
CALSCALE:GREGORIAN
BEGIN:VEVENT
UID:fccb60fb512d13df5083790d64c4d5dd
DTSTAMP:20260420T234517Z
LOCATION:Jakarta
DESCRIPTION:ayolari.in
URL;VALUE=URI:https://ayolari.in/lomba/14th-feui-cup-run-to-raise
SUMMARY:14th FEUI CUP Run To Raise
DTSTART;VALUE=DATE;TZID=ASIA-JAKARTA:20160417
DTEND;VALUE=DATE;TZID=ASIA-JAKARTA:20160418
TRANSP:TRANSPARENT
END:VEVENT
END:VCALENDAR