BEGIN:VCALENDAR
VERSION:2.0
PRODID:-//Adham Somantrie/AyoLari.in//NONSGML v1.0//EN
CALSCALE:GREGORIAN
BEGIN:VEVENT
UID:2421fcb1263b9530df88f7f002e78ea5
DTSTAMP:20260420T234811Z
LOCATION:Jakarta
DESCRIPTION:ayolari.in
URL;VALUE=URI:https://ayolari.in/lomba/cc5k-almamaterun-2016
SUMMARY:CC5K Almamaterun 2016
DTSTART;VALUE=DATE;TZID=ASIA-JAKARTA:20160430
DTEND;VALUE=DATE;TZID=ASIA-JAKARTA:20160501
TRANSP:TRANSPARENT
END:VEVENT
END:VCALENDAR