BEGIN:VCALENDAR
VERSION:2.0
PRODID:-//Adham Somantrie/AyoLari.in//NONSGML v1.0//EN
CALSCALE:GREGORIAN
BEGIN:VEVENT
UID:ddb30680a691d157187ee1cf9e896d03
DTSTAMP:20260420T234929Z
LOCATION:Jakarta
DESCRIPTION:ayolari.in
URL;VALUE=URI:https://ayolari.in/lomba/superball-run-2016
SUMMARY:SuperBall Run 2016
DTSTART;VALUE=DATE;TZID=ASIA-JAKARTA:20161106
DTEND;VALUE=DATE;TZID=ASIA-JAKARTA:20161107
TRANSP:TRANSPARENT
END:VEVENT
END:VCALENDAR