BEGIN:VCALENDAR
VERSION:2.0
PRODID:-//Adham Somantrie/AyoLari.in//NONSGML v1.0//EN
CALSCALE:GREGORIAN
BEGIN:VEVENT
UID:b6f0479ae87d244975439c6124592772
DTSTAMP:20260421T111059Z
LOCATION:Jakarta
DESCRIPTION:ayolari.in
URL;VALUE=URI:https://ayolari.in/lomba/run-with-heart-jakarta-race-series-2016-4
SUMMARY:Run With Heart Jakarta Race Series 2016 #4
DTSTART;VALUE=DATE;TZID=ASIA-JAKARTA:20160529
DTEND;VALUE=DATE;TZID=ASIA-JAKARTA:20160530
TRANSP:TRANSPARENT
END:VEVENT
END:VCALENDAR