BEGIN:VCALENDAR
VERSION:2.0
PRODID:-//Adham Somantrie/AyoLari.in//NONSGML v1.0//EN
CALSCALE:GREGORIAN
BEGIN:VEVENT
UID:7eacb532570ff6858afd2723755ff790
DTSTAMP:20260421T033116Z
LOCATION:Jakarta
DESCRIPTION:ayolari.in
URL;VALUE=URI:https://ayolari.in/lomba/run-with-heart-jakarta-race-series-2016-3
SUMMARY:Run With Heart Jakarta Race Series 2016 #3
DTSTART;VALUE=DATE;TZID=ASIA-JAKARTA:20160423
DTEND;VALUE=DATE;TZID=ASIA-JAKARTA:20160424
TRANSP:TRANSPARENT
END:VEVENT
END:VCALENDAR