BEGIN:VCALENDAR
VERSION:2.0
PRODID:-//Adham Somantrie/AyoLari.in//NONSGML v1.0//EN
CALSCALE:GREGORIAN
BEGIN:VEVENT
UID:d1f255a373a3cef72e03aa9d980c7eca
DTSTAMP:20260421T000520Z
LOCATION:Jakarta
DESCRIPTION:ayolari.in
URL;VALUE=URI:https://ayolari.in/lomba/run-with-heart-jakarta-race-series-2016-2
SUMMARY:Run With Heart Jakarta Race Series 2016 #2 
DTSTART;VALUE=DATE;TZID=ASIA-JAKARTA:20160320
DTEND;VALUE=DATE;TZID=ASIA-JAKARTA:20160321
TRANSP:TRANSPARENT
END:VEVENT
END:VCALENDAR