BEGIN:VCALENDAR
VERSION:2.0
PRODID:-//Adham Somantrie/AyoLari.in//NONSGML v1.0//EN
CALSCALE:GREGORIAN
BEGIN:VEVENT
UID:41ae36ecb9b3eee609d05b90c14222fb
DTSTAMP:20260421T001341Z
LOCATION:Tangerang
DESCRIPTION:ayolari.in
URL;VALUE=URI:https://ayolari.in/lomba/run-with-heart-jakarta-race-series-2016-1
SUMMARY:Run With Heart Jakarta Race Series 2016 #1
DTSTART;VALUE=DATE;TZID=ASIA-JAKARTA:20160228
DTEND;VALUE=DATE;TZID=ASIA-JAKARTA:20160229
TRANSP:TRANSPARENT
END:VEVENT
END:VCALENDAR