BEGIN:VCALENDAR
VERSION:2.0
PRODID:-//Adham Somantrie/AyoLari.in//NONSGML v1.0//EN
CALSCALE:GREGORIAN
BEGIN:VEVENT
UID:a01a0380ca3c61428c26a231f0e49a09
DTSTAMP:20260421T000323Z
LOCATION:Jakarta
DESCRIPTION:ayolari.in
URL;VALUE=URI:https://ayolari.in/lomba/puri-indah-mall-sathorun-for-education-2016
SUMMARY:Puri Indah Mall SATHORUN for Education 2016
DTSTART;VALUE=DATE;TZID=ASIA-JAKARTA:20160306
DTEND;VALUE=DATE;TZID=ASIA-JAKARTA:20160307
TRANSP:TRANSPARENT
END:VEVENT
END:VCALENDAR