BEGIN:VCALENDAR
VERSION:2.0
PRODID:-//Adham Somantrie/AyoLari.in//NONSGML v1.0//EN
CALSCALE:GREGORIAN
BEGIN:VEVENT
UID:bca82e41ee7b0833588399b1fcd177c7
DTSTAMP:20260420T234515Z
LOCATION:Jakarta
DESCRIPTION:ayolari.in
URL;VALUE=URI:https://ayolari.in/lomba/jakarta-wine-cheese-run-2016
SUMMARY:Jakarta Wine & Cheese Run 2016
DTSTART;VALUE=DATE;TZID=ASIA-JAKARTA:20160515
DTEND;VALUE=DATE;TZID=ASIA-JAKARTA:20160516
TRANSP:TRANSPARENT
END:VEVENT
END:VCALENDAR