BEGIN:VCALENDAR
VERSION:2.0
PRODID:-//Adham Somantrie/AyoLari.in//NONSGML v1.0//EN
CALSCALE:GREGORIAN
BEGIN:VEVENT
UID:a5771bce93e200c36f7cd9dfd0e5deaa
DTSTAMP:20260420T234520Z
LOCATION:Jakarta
DESCRIPTION:ayolari.in
URL;VALUE=URI:https://ayolari.in/lomba/tpi-5-miles-fun-run
SUMMARY:TPI 5 Miles Fun Run
DTSTART;VALUE=DATE;TZID=ASIA-JAKARTA:20131124
DTEND;VALUE=DATE;TZID=ASIA-JAKARTA:20131125
TRANSP:TRANSPARENT
END:VEVENT
END:VCALENDAR