BEGIN:VCALENDAR
VERSION:2.0
PRODID:-//Adham Somantrie/AyoLari.in//NONSGML v1.0//EN
CALSCALE:GREGORIAN
BEGIN:VEVENT
UID:d34ab169b70c9dcd35e62896010cd9ff
DTSTAMP:20260421T005935Z
LOCATION:Jakarta
DESCRIPTION:ayolari.in
URL;VALUE=URI:https://ayolari.in/lomba/twl-fun-run
SUMMARY:TWL Fun Run
DTSTART;VALUE=DATE;TZID=ASIA-JAKARTA:20160130
DTEND;VALUE=DATE;TZID=ASIA-JAKARTA:20160131
TRANSP:TRANSPARENT
END:VEVENT
END:VCALENDAR