BEGIN:VCALENDAR
VERSION:2.0
PRODID:-//Adham Somantrie/AyoLari.in//NONSGML v1.0//EN
CALSCALE:GREGORIAN
BEGIN:VEVENT
UID:ffd52f3c7e12435a724a8f30fddadd9c
DTSTAMP:20260421T043331Z
LOCATION:Samarinda\, Kalimantan Timur
DESCRIPTION:ayolari.in
URL;VALUE=URI:https://ayolari.in/lomba/extreme-jungle-run-3
SUMMARY:Extreme Jungle Run 3
DTSTART;VALUE=DATE;TZID=ASIA-JAKARTA:20160417
DTEND;VALUE=DATE;TZID=ASIA-JAKARTA:20160418
TRANSP:TRANSPARENT
END:VEVENT
END:VCALENDAR