BEGIN:VCALENDAR
VERSION:2.0
PRODID:-//Adham Somantrie/AyoLari.in//NONSGML v1.0//EN
CALSCALE:GREGORIAN
BEGIN:VEVENT
UID:52720e003547c70561bf5e03b95aa99f
DTSTAMP:20260421T020712Z
LOCATION:Jakarta
DESCRIPTION:ayolari.in
URL;VALUE=URI:https://ayolari.in/lomba/pocari-sweat-run-jakarta-2016
SUMMARY:Pocari Sweat Run Jakarta 2016
DTSTART;VALUE=DATE;TZID=ASIA-JAKARTA:20160522
DTEND;VALUE=DATE;TZID=ASIA-JAKARTA:20160523
TRANSP:TRANSPARENT
END:VEVENT
END:VCALENDAR