BEGIN:VCALENDAR
VERSION:2.0
PRODID:-//Adham Somantrie/AyoLari.in//NONSGML v1.0//EN
CALSCALE:GREGORIAN
BEGIN:VEVENT
UID:6faa8040da20ef399b63a72d0e4ab575
DTSTAMP:20260421T000520Z
LOCATION:Jakarta
DESCRIPTION:ayolari.in
URL;VALUE=URI:https://ayolari.in/lomba/tugu-to-tugu-ultra-marathon-55k
SUMMARY:Tugu to Tugu Ultra Marathon 55K
DTSTART;VALUE=DATE;TZID=ASIA-JAKARTA:20151231
DTEND;VALUE=DATE;TZID=ASIA-JAKARTA:20160101
TRANSP:TRANSPARENT
END:VEVENT
END:VCALENDAR