BEGIN:VCALENDAR
VERSION:2.0
PRODID:-//Adham Somantrie/AyoLari.in//NONSGML v1.0//EN
CALSCALE:GREGORIAN
BEGIN:VEVENT
UID:94f6d7e04a4d452035300f18b984988c
DTSTAMP:20260421T020355Z
LOCATION:Jakarta
DESCRIPTION:ayolari.in
URL;VALUE=URI:https://ayolari.in/lomba/sky-run-2016
SUMMARY:Sky Run 2016
DTSTART;VALUE=DATE;TZID=ASIA-JAKARTA:20160110
DTEND;VALUE=DATE;TZID=ASIA-JAKARTA:20160111
TRANSP:TRANSPARENT
END:VEVENT
END:VCALENDAR