BEGIN:VCALENDAR
VERSION:2.0
PRODID:-//Adham Somantrie/AyoLari.in//NONSGML v1.0//EN
CALSCALE:GREGORIAN
BEGIN:VEVENT
UID:6ea9ab1baa0efb9e19094440c317e21b
DTSTAMP:20260421T005231Z
LOCATION:Jakarta
DESCRIPTION:ayolari.in
URL;VALUE=URI:https://ayolari.in/lomba/the-color-run-5k-jakarta-2014
SUMMARY:The Color Run 5K Jakarta 2014
DTSTART;VALUE=DATE;TZID=ASIA-JAKARTA:20140126
DTEND;VALUE=DATE;TZID=ASIA-JAKARTA:20140127
TRANSP:TRANSPARENT
END:VEVENT
END:VCALENDAR