BEGIN:VCALENDAR
VERSION:2.0
PRODID:-//Adham Somantrie/AyoLari.in//NONSGML v1.0//EN
CALSCALE:GREGORIAN
BEGIN:VEVENT
UID:0f49c89d1e7298bb9930789c8ed59d48
DTSTAMP:20260420T234643Z
LOCATION:Depok
DESCRIPTION:ayolari.in
URL;VALUE=URI:https://ayolari.in/lomba/todung-ui-cup-2015-fun-run
SUMMARY:Todung UI Cup 2015 Fun Run
DTSTART;VALUE=DATE;TZID=ASIA-JAKARTA:20151017
DTEND;VALUE=DATE;TZID=ASIA-JAKARTA:20151018
TRANSP:TRANSPARENT
END:VEVENT
END:VCALENDAR