BEGIN:VCALENDAR
VERSION:2.0
PRODID:-//Adham Somantrie/AyoLari.in//NONSGML v1.0//EN
CALSCALE:GREGORIAN
BEGIN:VEVENT
UID:39059724f73a9969845dfe4146c5660e
DTSTAMP:20260421T013513Z
LOCATION:Jakarta
DESCRIPTION:ayolari.in
URL;VALUE=URI:https://ayolari.in/lomba/lomba-lari-10k-hut-tni-ke-70
SUMMARY:Lomba Lari 10K HUT TNI Ke-70
DTSTART;VALUE=DATE;TZID=ASIA-JAKARTA:20150927
DTEND;VALUE=DATE;TZID=ASIA-JAKARTA:20150928
TRANSP:TRANSPARENT
END:VEVENT
END:VCALENDAR