BEGIN:VCALENDAR
VERSION:2.0
PRODID:-//Adham Somantrie/AyoLari.in//NONSGML v1.0//EN
CALSCALE:GREGORIAN
BEGIN:VEVENT
UID:06138bc5af6023646ede0e1f7c1eac75
DTSTAMP:20260421T020829Z
LOCATION:Jakarta
DESCRIPTION:ayolari.in
URL;VALUE=URI:https://ayolari.in/lomba/league-grip-the-road-2015
SUMMARY:League Grip The Road 2015
DTSTART;VALUE=DATE;TZID=ASIA-JAKARTA:20151129
DTEND;VALUE=DATE;TZID=ASIA-JAKARTA:20151130
TRANSP:TRANSPARENT
END:VEVENT
END:VCALENDAR