BEGIN:VCALENDAR
VERSION:2.0
PRODID:-//Adham Somantrie/AyoLari.in//NONSGML v1.0//EN
CALSCALE:GREGORIAN
BEGIN:VEVENT
UID:d6baf65e0b240ce177cf70da146c8dc8
DTSTAMP:20260420T081136Z
LOCATION:Pekanbaru
DESCRIPTION:ayolari.in
URL;VALUE=URI:https://ayolari.in/lomba/5k-ballon-run-foam-2015
SUMMARY:5K Ballon Run & Foam 2015
DTSTART;VALUE=DATE;TZID=ASIA-JAKARTA:20151004
DTEND;VALUE=DATE;TZID=ASIA-JAKARTA:20151005
TRANSP:TRANSPARENT
END:VEVENT
END:VCALENDAR