BEGIN:VCALENDAR
VERSION:2.0
PRODID:-//Adham Somantrie/AyoLari.in//NONSGML v1.0//EN
CALSCALE:GREGORIAN
BEGIN:VEVENT
UID:36660e59856b4de58a219bcf4e27eba3
DTSTAMP:20260420T235339Z
LOCATION:Jakarta
DESCRIPTION:ayolari.in
URL;VALUE=URI:https://ayolari.in/lomba/petroweek-sunday-fun-run-for-preservation
SUMMARY:Petroweek Sunday Fun Run for Preservation
DTSTART;VALUE=DATE;TZID=ASIA-JAKARTA:20150906
DTEND;VALUE=DATE;TZID=ASIA-JAKARTA:20150907
TRANSP:TRANSPARENT
END:VEVENT
END:VCALENDAR