BEGIN:VCALENDAR
VERSION:2.0
PRODID:-//Adham Somantrie/AyoLari.in//NONSGML v1.0//EN
CALSCALE:GREGORIAN
BEGIN:VEVENT
UID:8c59fd6fbe0e9793ec2b27971221cace
DTSTAMP:20260423T040547Z
LOCATION:Tangerang
DESCRIPTION:ayolari.in
URL;VALUE=URI:https://ayolari.in/lomba/herbalife-run-indonesia-2026
SUMMARY:Herbalife Run Indonesia 2026
DTSTART;VALUE=DATE;TZID=ASIA-JAKARTA:20260927
DTEND;VALUE=DATE;TZID=ASIA-JAKARTA:20260928
TRANSP:TRANSPARENT
END:VEVENT
END:VCALENDAR