BEGIN:VCALENDAR
VERSION:2.0
PRODID:-//Adham Somantrie/AyoLari.in//NONSGML v1.0//EN
CALSCALE:GREGORIAN
BEGIN:VEVENT
UID:fc79250f8c5b804390e8da280b4cf06e
DTSTAMP:20260420T234713Z
LOCATION:Jakarta
DESCRIPTION:ayolari.in
URL;VALUE=URI:https://ayolari.in/lomba/jt-connect-run-2023
SUMMARY:J&T Connect Run
DTSTART;VALUE=DATE;TZID=ASIA-JAKARTA:20230716
DTEND;VALUE=DATE;TZID=ASIA-JAKARTA:20230717
TRANSP:TRANSPARENT
END:VEVENT
END:VCALENDAR