BEGIN:VCALENDAR
VERSION:2.0
PRODID:-//Adham Somantrie/AyoLari.in//NONSGML v1.0//EN
CALSCALE:GREGORIAN
BEGIN:VEVENT
UID:e4a6222cdb5b34375400904f03d8e6a5
DTSTAMP:20260421T203509Z
LOCATION:Palembang
DESCRIPTION:ayolari.in
URL;VALUE=URI:https://ayolari.in/lomba/simpati-discoverrun-palembang
SUMMARY:simPATI DiscoverRun Palembang
DTSTART;VALUE=DATE;TZID=ASIA-JAKARTA:20150809
DTEND;VALUE=DATE;TZID=ASIA-JAKARTA:20150810
TRANSP:TRANSPARENT
END:VEVENT
END:VCALENDAR