BEGIN:VCALENDAR
VERSION:2.0
PRODID:-//Adham Somantrie/AyoLari.in//NONSGML v1.0//EN
CALSCALE:GREGORIAN
BEGIN:VEVENT
UID:959ef477884b6ac2241b19ee4fb776ae
DTSTAMP:20260421T032836Z
LOCATION:Jakarta
DESCRIPTION:ayolari.in
URL;VALUE=URI:https://ayolari.in/lomba/btn-run-2023
SUMMARY:BTN Run 2023
DTSTART;VALUE=DATE;TZID=ASIA-JAKARTA:20230212
DTEND;VALUE=DATE;TZID=ASIA-JAKARTA:20230213
TRANSP:TRANSPARENT
END:VEVENT
END:VCALENDAR