BEGIN:VCALENDAR
VERSION:2.0
PRODID:-//Adham Somantrie/AyoLari.in//NONSGML v1.0//EN
CALSCALE:GREGORIAN
BEGIN:VEVENT
UID:1ff1de774005f8da13f42943881c655f
DTSTAMP:20260420T234713Z
LOCATION:Jakarta
DESCRIPTION:ayolari.in
URL;VALUE=URI:https://ayolari.in/lomba/mnctv-jogging-fest
SUMMARY:MNCTV Jogging Fest
DTSTART;VALUE=DATE;TZID=ASIA-JAKARTA:20131020
DTEND;VALUE=DATE;TZID=ASIA-JAKARTA:20131021
TRANSP:TRANSPARENT
END:VEVENT
END:VCALENDAR