BEGIN:VCALENDAR
VERSION:2.0
PRODID:-//Adham Somantrie/AyoLari.in//NONSGML v1.0//EN
CALSCALE:GREGORIAN
BEGIN:VEVENT
UID:dcf6070a4ab7f3afbfd2809173e0824b
DTSTAMP:20260421T022438Z
LOCATION:Jakarta
DESCRIPTION:ayolari.in
URL;VALUE=URI:https://ayolari.in/lomba/skyrun-2023
SUMMARY:SKYRUN 2023
DTSTART;VALUE=DATE;TZID=ASIA-JAKARTA:20230219
DTEND;VALUE=DATE;TZID=ASIA-JAKARTA:20230220
TRANSP:TRANSPARENT
END:VEVENT
END:VCALENDAR