BEGIN:VCALENDAR
VERSION:2.0
PRODID:-//Adham Somantrie/AyoLari.in//NONSGML v1.0//EN
CALSCALE:GREGORIAN
BEGIN:VEVENT
UID:6ee69d3769e832ec77c9584e0b7ba112
DTSTAMP:20260421T124521Z
LOCATION:Jakarta
DESCRIPTION:ayolari.in
URL;VALUE=URI:https://ayolari.in/lomba/mnc-fun-charity-run
SUMMARY:MNC FUN CHARITY RUN
DTSTART;VALUE=DATE;TZID=ASIA-JAKARTA:20221120
DTEND;VALUE=DATE;TZID=ASIA-JAKARTA:20221121
TRANSP:TRANSPARENT
END:VEVENT
END:VCALENDAR