BEGIN:VCALENDAR
VERSION:2.0
PRODID:-//Adham Somantrie/AyoLari.in//NONSGML v1.0//EN
CALSCALE:GREGORIAN
BEGIN:VEVENT
UID:d3b1fb02964aa64e257f9f26a31f72cf
DTSTAMP:20260421T203509Z
LOCATION:Virtual Run
DESCRIPTION:ayolari.in
URL;VALUE=URI:https://ayolari.in/lomba/khi-loops-vr-2022
SUMMARY:KHI Loops VR 2022
DTSTART;VALUE=DATE;TZID=ASIA-JAKARTA:20221218
DTEND;VALUE=DATE;TZID=ASIA-JAKARTA:20221219
TRANSP:TRANSPARENT
END:VEVENT
END:VCALENDAR