BEGIN:VCALENDAR
VERSION:2.0
PRODID:-//Adham Somantrie/AyoLari.in//NONSGML v1.0//EN
CALSCALE:GREGORIAN
BEGIN:VEVENT
UID:4ebd440d99504722d80de606ea8507da
DTSTAMP:20260421T040749Z
LOCATION:Jakarta
DESCRIPTION:ayolari.in
URL;VALUE=URI:https://ayolari.in/lomba/mag-dino-run-2022
SUMMARY:MAG Dino Run 2022
DTSTART;VALUE=DATE;TZID=ASIA-JAKARTA:20221127
DTEND;VALUE=DATE;TZID=ASIA-JAKARTA:20221128
TRANSP:TRANSPARENT
END:VEVENT
END:VCALENDAR